Package: MetaDICT Version: 0.99.4 Command: /Library/Frameworks/R.framework/Resources/bin/R CMD INSTALL MetaDICT StartedAt: 2025-10-05 15:05:38 -0400 (Sun, 05 Oct 2025) EndedAt: 2025-10-05 15:05:42 -0400 (Sun, 05 Oct 2025) EllapsedTime: 4.0 seconds RetCode: 0 Status: OK