Package: MetaDICT Version: 0.99.4 Command: /Library/Frameworks/R.framework/Resources/bin/R CMD check --install=check:MetaDICT.install-out.txt --library=/Library/Frameworks/R.framework/Resources/library --no-vignettes --timings MetaDICT_0.99.4.tar.gz StartedAt: 2025-10-05 20:21:10 -0400 (Sun, 05 Oct 2025) EndedAt: 2025-10-05 20:22:51 -0400 (Sun, 05 Oct 2025) EllapsedTime: 101.2 seconds RetCode: 0 Status: OK CheckDir: MetaDICT.Rcheck Warnings: 0