Package: MetNet Version: 1.27.0 Command: F:\biocbuild\bbs-3.22-bioc\R\bin\R.exe CMD INSTALL MetNet StartedAt: 2025-07-20 15:57:59 -0400 (Sun, 20 Jul 2025) EndedAt: 2025-07-20 15:58:45 -0400 (Sun, 20 Jul 2025) EllapsedTime: 45.6 seconds RetCode: 0 Status: OK