Package: MetNet Version: 1.27.0 Command: chmod a+r MetNet -R && F:\biocbuild\bbs-3.22-bioc\R\bin\R.exe CMD build --keep-empty-dirs --no-resave-data MetNet StartedAt: 2025-07-20 20:16:07 -0400 (Sun, 20 Jul 2025) EndedAt: 2025-07-20 20:17:24 -0400 (Sun, 20 Jul 2025) EllapsedTime: 77.3 seconds RetCode: 0 Status: OK PackageFile: MetNet_1.27.0.tar.gz PackageFileSize: 3.832 MiB