Package: MetMashR Version: 1.3.0 Command: /Library/Frameworks/R.framework/Resources/bin/R CMD INSTALL MetMashR StartedAt: 2025-07-09 15:26:30 -0400 (Wed, 09 Jul 2025) EndedAt: 2025-07-09 15:26:43 -0400 (Wed, 09 Jul 2025) EllapsedTime: 13.1 seconds RetCode: 0 Status: OK