Package: MetMashR Version: 1.3.0 Command: /Library/Frameworks/R.framework/Resources/bin/R CMD build --keep-empty-dirs --no-resave-data MetMashR StartedAt: 2025-07-07 16:50:49 -0400 (Mon, 07 Jul 2025) EndedAt: 2025-07-07 16:52:55 -0400 (Mon, 07 Jul 2025) EllapsedTime: 125.5 seconds RetCode: 1 Status: ERROR PackageFile: None PackageFileSize: NA