Package: MetID Version: 1.27.0 Command: F:\biocbuild\bbs-3.22-bioc\R\bin\R.exe CMD check --no-multiarch --install=check:MetID.install-out.txt --library=F:\biocbuild\bbs-3.22-bioc\R\library --no-vignettes --timings MetID_1.27.0.tar.gz StartedAt: 2025-07-15 03:51:16 -0400 (Tue, 15 Jul 2025) EndedAt: 2025-07-15 03:53:21 -0400 (Tue, 15 Jul 2025) EllapsedTime: 124.4 seconds RetCode: 0 Status: OK CheckDir: MetID.Rcheck Warnings: 0