Package: MetID Version: 1.27.0 Command: /Library/Frameworks/R.framework/Resources/bin/R CMD INSTALL MetID StartedAt: 2025-07-14 15:23:20 -0400 (Mon, 14 Jul 2025) EndedAt: 2025-07-14 15:23:34 -0400 (Mon, 14 Jul 2025) EllapsedTime: 13.6 seconds RetCode: 0 Status: OK