Package: MetID Version: 1.27.0 Command: /Library/Frameworks/R.framework/Resources/bin/R CMD check --install=check:MetID.install-out.txt --library=/Library/Frameworks/R.framework/Resources/library --no-vignettes --timings MetID_1.27.0.tar.gz StartedAt: 2025-07-14 21:53:48 -0400 (Mon, 14 Jul 2025) EndedAt: 2025-07-14 21:55:27 -0400 (Mon, 14 Jul 2025) EllapsedTime: 98.6 seconds RetCode: 0 Status: OK CheckDir: MetID.Rcheck Warnings: 0