Package: MetID Version: 1.27.0 Command: /Library/Frameworks/R.framework/Resources/bin/R CMD build --keep-empty-dirs --no-resave-data MetID StartedAt: 2025-07-14 17:35:07 -0400 (Mon, 14 Jul 2025) EndedAt: 2025-07-14 17:35:47 -0400 (Mon, 14 Jul 2025) EllapsedTime: 39.9 seconds RetCode: 0 Status: OK PackageFile: MetID_1.27.0.tar.gz PackageFileSize: 1.504 MiB