Package: MetCirc Version: 1.39.0 Command: /home/biocbuild/R/R/bin/R CMD INSTALL MetCirc StartedAt: 2025-10-02 20:35:04 -0000 (Thu, 02 Oct 2025) EndedAt: 2025-10-02 20:35:22 -0000 (Thu, 02 Oct 2025) EllapsedTime: 18.2 seconds RetCode: 0 Status: OK