Package: MesKit Version: 1.19.0 Command: /home/biocbuild/R/R/bin/R CMD INSTALL MesKit StartedAt: 2025-07-14 20:44:47 -0000 (Mon, 14 Jul 2025) EndedAt: 2025-07-14 20:45:16 -0000 (Mon, 14 Jul 2025) EllapsedTime: 28.7 seconds RetCode: 0 Status: OK