Package: MesKit Version: 1.19.0 Command: /home/biocbuild/bbs-3.22-bioc/R/bin/R CMD INSTALL MesKit StartedAt: 2025-07-16 15:32:52 -0400 (Wed, 16 Jul 2025) EndedAt: 2025-07-16 15:33:21 -0400 (Wed, 16 Jul 2025) EllapsedTime: 29.5 seconds RetCode: 0 Status: OK