Package: MesKit Version: 1.19.0 Command: /home/biocbuild/bbs-3.22-bioc/R/bin/R CMD build --keep-empty-dirs --no-resave-data --md5 MesKit StartedAt: 2025-07-16 18:09:07 -0400 (Wed, 16 Jul 2025) EndedAt: 2025-07-16 18:10:35 -0400 (Wed, 16 Jul 2025) EllapsedTime: 88.1 seconds RetCode: 0 Status: OK PackageFile: MesKit_1.19.0.tar.gz PackageFileSize: 3.782 MiB