Package: MesKit Version: 1.19.0 Command: /Library/Frameworks/R.framework/Resources/bin/R CMD check --install=check:MesKit.install-out.txt --library=/Library/Frameworks/R.framework/Resources/library --no-vignettes --timings MesKit_1.19.0.tar.gz StartedAt: 2025-07-13 19:58:59 -0400 (Sun, 13 Jul 2025) EndedAt: 2025-07-13 20:01:57 -0400 (Sun, 13 Jul 2025) EllapsedTime: 178.2 seconds RetCode: 0 Status: WARNINGS CheckDir: MesKit.Rcheck Warnings: 1