Package: Melissa Version: 1.25.0 Command: /home/biocbuild/R/R/bin/R CMD INSTALL Melissa StartedAt: 2025-07-24 21:33:32 -0000 (Thu, 24 Jul 2025) EndedAt: 2025-07-24 21:33:58 -0000 (Thu, 24 Jul 2025) EllapsedTime: 25.4 seconds RetCode: 0 Status: OK