Package: Melissa Version: 1.25.0 Command: /Library/Frameworks/R.framework/Resources/bin/R CMD INSTALL Melissa StartedAt: 2025-07-21 15:26:04 -0400 (Mon, 21 Jul 2025) EndedAt: 2025-07-21 15:26:33 -0400 (Mon, 21 Jul 2025) EllapsedTime: 28.2 seconds RetCode: 0 Status: OK