Package: Melissa Version: 1.25.0 Command: /Library/Frameworks/R.framework/Resources/bin/R CMD check --install=check:Melissa.install-out.txt --library=/Library/Frameworks/R.framework/Resources/library --no-vignettes --timings Melissa_1.25.0.tar.gz StartedAt: 2025-10-05 20:19:16 -0400 (Sun, 05 Oct 2025) EndedAt: 2025-10-05 20:20:13 -0400 (Sun, 05 Oct 2025) EllapsedTime: 57.7 seconds RetCode: 0 Status: OK CheckDir: Melissa.Rcheck Warnings: 0