Package: MeSHDbi Version: 1.45.0 Command: /home/biocbuild/R/R/bin/R CMD INSTALL MeSHDbi StartedAt: 2025-10-13 21:06:26 -0000 (Mon, 13 Oct 2025) EndedAt: 2025-10-13 21:06:42 -0000 (Mon, 13 Oct 2025) EllapsedTime: 16.0 seconds RetCode: 0 Status: OK