Package: MeSHDbi Version: 1.45.0 Command: F:\biocbuild\bbs-3.22-bioc\R\bin\R.exe CMD check --no-multiarch --install=check:MeSHDbi.install-out.txt --library=F:\biocbuild\bbs-3.22-bioc\R\library --no-vignettes --timings MeSHDbi_1.45.0.tar.gz StartedAt: 2025-08-15 04:53:31 -0400 (Fri, 15 Aug 2025) EndedAt: 2025-08-15 04:55:31 -0400 (Fri, 15 Aug 2025) EllapsedTime: 119.8 seconds RetCode: 0 Status: OK CheckDir: MeSHDbi.Rcheck Warnings: 0