Package: MeSHDbi Version: 1.45.0 Command: rm -rf MeSHDbi.buildbin-libdir && mkdir MeSHDbi.buildbin-libdir && F:\biocbuild\bbs-3.22-bioc\R\bin\R.exe CMD INSTALL --build --library=MeSHDbi.buildbin-libdir MeSHDbi_1.45.0.tar.gz StartedAt: 2025-08-15 10:39:04 -0400 (Fri, 15 Aug 2025) EndedAt: 2025-08-15 10:39:38 -0400 (Fri, 15 Aug 2025) EllapsedTime: 34.6 seconds RetCode: 0 Status: OK PackageFile: MeSHDbi_1.45.0.zip PackageFileSize: 460.2 KiB