Package: MatrixQCvis Version: 1.17.1 Command: F:\biocbuild\bbs-3.22-bioc\R\bin\R.exe CMD INSTALL MatrixQCvis StartedAt: 2025-07-07 16:32:23 -0400 (Mon, 07 Jul 2025) EndedAt: 2025-07-07 16:34:15 -0400 (Mon, 07 Jul 2025) EllapsedTime: 111.5 seconds RetCode: 0 Status: OK