Package: MatrixQCvis Version: 1.17.1 Command: rm -rf MatrixQCvis.buildbin-libdir && mkdir MatrixQCvis.buildbin-libdir && F:\biocbuild\bbs-3.22-bioc\R\bin\R.exe CMD INSTALL --build --library=MatrixQCvis.buildbin-libdir MatrixQCvis_1.17.1.tar.gz StartedAt: 2025-07-08 09:16:34 -0400 (Tue, 08 Jul 2025) EndedAt: 2025-07-08 09:17:56 -0400 (Tue, 08 Jul 2025) EllapsedTime: 81.3 seconds RetCode: 0 Status: OK PackageFile: MatrixQCvis_1.17.1.zip PackageFileSize: 4.37 MiB