Package: MassSpecWavelet Version: 1.75.1 Command: rm -rf MassSpecWavelet.buildbin-libdir && mkdir MassSpecWavelet.buildbin-libdir && F:\biocbuild\bbs-3.22-bioc\R\bin\R.exe CMD INSTALL --build --library=MassSpecWavelet.buildbin-libdir MassSpecWavelet_1.75.1.tar.gz StartedAt: 2025-06-28 09:04:42 -0400 (Sat, 28 Jun 2025) EndedAt: 2025-06-28 09:05:43 -0400 (Sat, 28 Jun 2025) EllapsedTime: 60.5 seconds RetCode: 0 Status: OK PackageFile: MassSpecWavelet_1.75.1.zip PackageFileSize: 1.178 MiB