Package: MassArray Version: 1.61.0 Command: /home/biocbuild/R/R/bin/R CMD INSTALL MassArray StartedAt: 2025-06-26 20:09:28 -0000 (Thu, 26 Jun 2025) EndedAt: 2025-06-26 20:09:35 -0000 (Thu, 26 Jun 2025) EllapsedTime: 6.4 seconds RetCode: 0 Status: OK