Package: MassArray Version: 1.61.0 Command: /home/biocbuild/R/R/bin/R CMD build --keep-empty-dirs --no-resave-data MassArray StartedAt: 2025-06-27 00:34:18 -0000 (Fri, 27 Jun 2025) EndedAt: 2025-06-27 00:34:50 -0000 (Fri, 27 Jun 2025) EllapsedTime: 32.0 seconds RetCode: 0 Status: OK PackageFile: MassArray_1.61.0.tar.gz PackageFileSize: 368.9 KiB