Package: MassArray Version: 1.61.0 Command: F:\biocbuild\bbs-3.22-bioc\R\bin\R.exe CMD check --no-multiarch --install=check:MassArray.install-out.txt --library=F:\biocbuild\bbs-3.22-bioc\R\library --no-vignettes --timings MassArray_1.61.0.tar.gz StartedAt: 2025-07-03 03:37:55 -0400 (Thu, 03 Jul 2025) EndedAt: 2025-07-03 03:38:58 -0400 (Thu, 03 Jul 2025) EllapsedTime: 62.4 seconds RetCode: 0 Status: OK CheckDir: MassArray.Rcheck Warnings: 0