Package: MassArray Version: 1.61.0 Command: chmod a+r MassArray -R && F:\biocbuild\bbs-3.22-bioc\R\bin\R.exe CMD build --keep-empty-dirs --no-resave-data MassArray StartedAt: 2025-07-02 20:12:21 -0400 (Wed, 02 Jul 2025) EndedAt: 2025-07-02 20:13:11 -0400 (Wed, 02 Jul 2025) EllapsedTime: 50.4 seconds RetCode: 0 Status: OK PackageFile: MassArray_1.61.0.tar.gz PackageFileSize: 274.7 KiB