Package: MassArray Version: 1.61.0 Command: rm -rf MassArray.buildbin-libdir && mkdir MassArray.buildbin-libdir && F:\biocbuild\bbs-3.22-bioc\R\bin\R.exe CMD INSTALL --build --library=MassArray.buildbin-libdir MassArray_1.61.0.tar.gz StartedAt: 2025-07-04 09:19:25 -0400 (Fri, 04 Jul 2025) EndedAt: 2025-07-04 09:20:11 -0400 (Fri, 04 Jul 2025) EllapsedTime: 46.6 seconds RetCode: 0 Status: OK PackageFile: MassArray_1.61.0.zip PackageFileSize: 547.1 KiB