Package: MassArray Version: 1.61.0 Command: /home/biocbuild/bbs-3.22-bioc/R/bin/R CMD check --install=check:MassArray.install-out.txt --library=/home/biocbuild/bbs-3.22-bioc/R/site-library --timings MassArray_1.61.0.tar.gz StartedAt: 2025-06-29 23:37:26 -0400 (Sun, 29 Jun 2025) EndedAt: 2025-06-29 23:38:19 -0400 (Sun, 29 Jun 2025) EllapsedTime: 53.1 seconds RetCode: 0 Status: OK CheckDir: MassArray.Rcheck Warnings: 0