Package: MassArray Version: 1.61.0 Command: /Library/Frameworks/R.framework/Resources/bin/R CMD check --install=check:MassArray.install-out.txt --library=/Library/Frameworks/R.framework/Resources/library --no-vignettes --timings MassArray_1.61.0.tar.gz StartedAt: 2025-06-29 21:25:57 -0400 (Sun, 29 Jun 2025) EndedAt: 2025-06-29 21:26:51 -0400 (Sun, 29 Jun 2025) EllapsedTime: 53.1 seconds RetCode: 0 Status: OK CheckDir: MassArray.Rcheck Warnings: 0