Package: Macarron Version: 1.13.2 Command: F:\biocbuild\bbs-3.22-bioc\R\bin\R.exe CMD INSTALL Macarron StartedAt: 2025-07-07 16:36:11 -0400 (Mon, 07 Jul 2025) EndedAt: 2025-07-07 16:36:40 -0400 (Mon, 07 Jul 2025) EllapsedTime: 28.9 seconds RetCode: 0 Status: OK