Package: Macarron Version: 1.13.2 Command: F:\biocbuild\bbs-3.22-bioc\R\bin\R.exe CMD check --no-multiarch --install=check:Macarron.install-out.txt --library=F:\biocbuild\bbs-3.22-bioc\R\library --no-vignettes --timings Macarron_1.13.2.tar.gz StartedAt: 2025-07-08 03:26:08 -0400 (Tue, 08 Jul 2025) EndedAt: 2025-07-08 03:44:24 -0400 (Tue, 08 Jul 2025) EllapsedTime: 1096.0 seconds RetCode: 0 Status: WARNINGS CheckDir: Macarron.Rcheck Warnings: 1