Package: Macarron Version: 1.13.2 Command: chmod a+r Macarron -R && F:\biocbuild\bbs-3.22-bioc\R\bin\R.exe CMD build --keep-empty-dirs --no-resave-data Macarron StartedAt: 2025-07-07 20:01:21 -0400 (Mon, 07 Jul 2025) EndedAt: 2025-07-07 20:07:34 -0400 (Mon, 07 Jul 2025) EllapsedTime: 372.6 seconds RetCode: 0 Status: OK PackageFile: Macarron_1.13.2.tar.gz PackageFileSize: 591.4 KiB