Package: Macarron Version: 1.13.2 Command: rm -rf Macarron.buildbin-libdir && mkdir Macarron.buildbin-libdir && F:\biocbuild\bbs-3.22-bioc\R\bin\R.exe CMD INSTALL --build --library=Macarron.buildbin-libdir Macarron_1.13.2.tar.gz StartedAt: 2025-07-08 09:15:11 -0400 (Tue, 08 Jul 2025) EndedAt: 2025-07-08 09:15:52 -0400 (Tue, 08 Jul 2025) EllapsedTime: 41.4 seconds RetCode: 0 Status: OK PackageFile: Macarron_1.13.2.zip PackageFileSize: 652.8 KiB