Package: Maaslin2 Version: 1.23.0 Command: /home/biocbuild/R/R/bin/R CMD INSTALL Maaslin2 StartedAt: 2025-07-21 20:35:47 -0000 (Mon, 21 Jul 2025) EndedAt: 2025-07-21 20:35:59 -0000 (Mon, 21 Jul 2025) EllapsedTime: 11.9 seconds RetCode: 0 Status: OK