Package: Maaslin2 Version: 1.23.0 Command: /home/biocbuild/R/R/bin/R CMD check --install=check:Maaslin2.install-out.txt --library=/home/biocbuild/R/R/site-library --no-vignettes --timings Maaslin2_1.23.0.tar.gz StartedAt: 2025-07-22 08:47:36 -0000 (Tue, 22 Jul 2025) EndedAt: 2025-07-22 08:51:00 -0000 (Tue, 22 Jul 2025) EllapsedTime: 204.3 seconds RetCode: 0 Status: OK CheckDir: Maaslin2.Rcheck Warnings: 0