Package: Maaslin2 Version: 1.23.0 Command: F:\biocbuild\bbs-3.22-bioc\R\bin\R.exe CMD INSTALL Maaslin2 StartedAt: 2025-06-30 16:37:39 -0400 (Mon, 30 Jun 2025) EndedAt: 2025-06-30 16:37:59 -0400 (Mon, 30 Jun 2025) EllapsedTime: 19.5 seconds RetCode: 0 Status: OK