Package: Maaslin2 Version: 1.23.0 Command: /Library/Frameworks/R.framework/Resources/bin/R CMD build --keep-empty-dirs --no-resave-data Maaslin2 StartedAt: 2025-06-29 17:15:12 -0400 (Sun, 29 Jun 2025) EndedAt: 2025-06-29 17:17:05 -0400 (Sun, 29 Jun 2025) EllapsedTime: 113.1 seconds RetCode: 0 Status: OK PackageFile: Maaslin2_1.23.0.tar.gz PackageFileSize: 544.1 KiB