Package: Maaslin2 Version: 1.23.0 Command: /Library/Frameworks/R.framework/Resources/bin/R CMD INSTALL Maaslin2 StartedAt: 2025-07-20 15:08:05 -0400 (Sun, 20 Jul 2025) EndedAt: 2025-07-20 15:08:08 -0400 (Sun, 20 Jul 2025) EllapsedTime: 3.4 seconds RetCode: 0 Status: OK