Package: Maaslin2 Version: 1.23.0 Command: /Library/Frameworks/R.framework/Resources/bin/R CMD build --keep-empty-dirs --no-resave-data Maaslin2 StartedAt: 2025-07-20 16:46:12 -0400 (Sun, 20 Jul 2025) EndedAt: 2025-07-20 16:46:53 -0400 (Sun, 20 Jul 2025) EllapsedTime: 40.5 seconds RetCode: 0 Status: OK PackageFile: Maaslin2_1.23.0.tar.gz PackageFileSize: 544.3 KiB