Package: Maaslin2 Version: 1.23.0 Command: rm -rf Maaslin2.buildbin-libdir && mkdir Maaslin2.buildbin-libdir && /Users/biocbuild/BBS/utils/build-universal.sh Maaslin2_1.23.0.tar.gz /Library/Frameworks/R.framework/Resources/bin/R Maaslin2.buildbin-libdir StartedAt: 2025-07-20 22:30:50 -0400 (Sun, 20 Jul 2025) EndedAt: 2025-07-20 22:30:54 -0400 (Sun, 20 Jul 2025) EllapsedTime: 4.1 seconds RetCode: 0 Status: OK PackageFile: Maaslin2_1.23.0.tgz PackageFileSize: 615.3 KiB