Package: MVCClass Version: 1.83.0 Command: /Library/Frameworks/R.framework/Resources/bin/R CMD INSTALL MVCClass StartedAt: 2025-10-06 15:07:08 -0400 (Mon, 06 Oct 2025) EndedAt: 2025-10-06 15:08:02 -0400 (Mon, 06 Oct 2025) EllapsedTime: 54.1 seconds RetCode: 0 Status: OK