Package: MVCClass Version: 1.83.0 Command: /Library/Frameworks/R.framework/Resources/bin/R CMD build --keep-empty-dirs --no-resave-data MVCClass StartedAt: 2025-10-06 18:10:49 -0400 (Mon, 06 Oct 2025) EndedAt: 2025-10-06 18:11:04 -0400 (Mon, 06 Oct 2025) EllapsedTime: 15.0 seconds RetCode: 0 Status: OK PackageFile: MVCClass_1.83.0.tar.gz PackageFileSize: 1.029 MiB