Package: MSstatsTMT Version: 2.17.0 Command: /home/biocbuild/R/R/bin/R CMD INSTALL MSstatsTMT StartedAt: 2025-07-24 21:12:48 -0000 (Thu, 24 Jul 2025) EndedAt: 2025-07-24 21:13:06 -0000 (Thu, 24 Jul 2025) EllapsedTime: 18.3 seconds RetCode: 0 Status: OK