Package: MSstatsTMT Version: 2.17.0 Command: /home/biocbuild/R/R/bin/R CMD build --keep-empty-dirs --no-resave-data MSstatsTMT StartedAt: 2025-07-25 02:21:10 -0000 (Fri, 25 Jul 2025) EndedAt: 2025-07-25 02:22:33 -0000 (Fri, 25 Jul 2025) EllapsedTime: 83.1 seconds RetCode: 0 Status: OK PackageFile: MSstatsTMT_2.17.0.tar.gz PackageFileSize: 1.532 MiB