Package: MSstatsTMT Version: 2.17.0 Command: /Library/Frameworks/R.framework/Resources/bin/R CMD INSTALL MSstatsTMT StartedAt: 2025-07-07 15:13:25 -0400 (Mon, 07 Jul 2025) EndedAt: 2025-07-07 15:13:45 -0400 (Mon, 07 Jul 2025) EllapsedTime: 20.5 seconds RetCode: 0 Status: OK