Package: MSstatsTMT Version: 2.17.0 Command: /Library/Frameworks/R.framework/Resources/bin/R CMD build --keep-empty-dirs --no-resave-data MSstatsTMT StartedAt: 2025-07-07 17:46:16 -0400 (Mon, 07 Jul 2025) EndedAt: 2025-07-07 17:47:36 -0400 (Mon, 07 Jul 2025) EllapsedTime: 80.1 seconds RetCode: 0 Status: OK PackageFile: MSstatsTMT_2.17.0.tar.gz PackageFileSize: 1.531 MiB