Package: MSstatsQCgui Version: 1.29.0 Command: F:\biocbuild\bbs-3.22-bioc\R\bin\R.exe CMD INSTALL MSstatsQCgui StartedAt: 2025-08-14 16:28:24 -0400 (Thu, 14 Aug 2025) EndedAt: 2025-08-14 16:29:10 -0400 (Thu, 14 Aug 2025) EllapsedTime: 46.1 seconds RetCode: 0 Status: OK