Package: MSstatsQCgui Version: 1.29.0 Command: /Library/Frameworks/R.framework/Resources/bin/R CMD check --install=check:MSstatsQCgui.install-out.txt --library=/Library/Frameworks/R.framework/Resources/library --no-vignettes --timings MSstatsQCgui_1.29.0.tar.gz StartedAt: 2025-06-27 20:20:11 -0400 (Fri, 27 Jun 2025) EndedAt: 2025-06-27 20:21:50 -0400 (Fri, 27 Jun 2025) EllapsedTime: 98.1 seconds RetCode: 0 Status: OK CheckDir: MSstatsQCgui.Rcheck Warnings: 0